Workbook

Sheet Form
B2: Langue : | C2: Anglais
B3: ref : | C3: Chemical Assessment Request Form
B5: Company Name: | H5: Instructions:
B6: User name: | H6: 1. Complete this form if you are the responsible chemical safety officer
B7: Street Address: | H7: 2. Return your completed form to application_specialists@labconco.com
B8: City: | E8: Zip: | H8: 3. Labconco generally responds to your query within 3 business days.
B9: Country:
B10: Tel:
B11: E-mail:
B12: Date:
B14: Assessment Purpose:
B15: Additional comments: | C15: Please describe your application and tell us your challenges and concerns.
B21: Type of handling | C21: CHEMICAL NAME | D21: TYPE OF CONTAINER | E21: Opened / Closed | F21: Dilution (%) | G21: Temperature (°C) | H21: Handling Frequency | I21: Handling Quantity | J21: Duration (min) | L21: Evaporation
K23: Closed
B61: AIR DRYER | D61: ≤ 1 handling/month | G61: From 0 to 5 ml (or g) | H61: From 0 to 2 min. | I61: ANALYSIS | J61: 0 - 0.25 ml/minute
B62: AMPOULES | D62: From 1 to 2 handlings/month | G62: From 6 to 10 ml (or g) | H62: From 3 to 5 min. | I62: APPLICATION ON | J62: 0.25 - 0.5 ml/minute
B63: BATH | D63: From 3 to 4 handlings/month | G63: From 11 to 25 ml (or g) | H63: From 5 to 10 min. | I63: ASH | J63: 0.5 - 1.0 ml/minute
B64: BEAKER | D64: From 5 to 10 handlings/month | G64: From 26 to 50 ml (or g) | H64: From 11 to 20 min. | I64: ASSAY | J64: 1.0 - 5.0 ml/minute
B65: BOTTLE | D65: From 11 to 20 handlings/month | G65: From 51 to 75 ml(or g) | H65: From 21 to 30 min. | I65: AUTOCLAVE
B66: BOWL | D66: From 21 to 30 handlings/month | G66: From 76 to 150 ml (or g) | H66: From 31 to 45 min. | I66: BIOCHEMICAL OXYGEN DEMAND
B67: CAP | D67: From 31 to 50 handlings/month | G67: From 151 to 250 ml (or g) | H67: From 46 to 60 min. | I67: BUNSEN BURNER
B68: CAPSULE | D68: From 51 to 100 handlings/month | G68: From 251 to 500 ml (or g) | H68: From 61 to 90 min. | I68: CALCINATION
B69: CARBOY | D69: ≥ 100 handlings/month | G69: From 501 to 1000 ml (or g) | H69: From 91 to 150 min. | I69: CENTRIFUGATION
B70: CELL | G70: > 1 l (ou kg) | H70: From 150 to 320 min. | I70: CHEMICAL OXYGEN DEMAND
B71: CHROMATOGRAPHIC COLUMN | H71: > 320 min. | I71: CLEANING
B72: CLOCK GLASS | I72: COLD DIGESTION
B73: COLUMN | I73: COLORIMETRY
B74: CRISTALLIZING DISH | I74: COLOURING
B75: CRUCIBLE | I75: COMBINATORIAL CHEMISTRY
B76: DECANTER | I76: CONCENTRATION
B77: DESICCATOR | I77: CONDUCTIVITY
B78: DISPENSER | I78: CONDUCTOMETRY
B79: DNA AMPLIFICATION | I79: CRYOGENICS
B80: DRUM | I80: CULTURE
B81: ERLENMEYER FLASK | I81: DIALYSIS
B82: EVAPORATING DISH | I82: DILUTION
B83: EVAPORATOR | I83: DIPPING
... B119: WEIGHTING BOAT | I119: pHmetry
I120: PHOTOMETRY
I121: PIPETTING
...

Sheet HeaderData
A1: Date: | B1: Assessmend ID: | C1: Assessment Purpose: | D1: Company Name: | E1: User name: | F1: Street Address: | G1: City: | H1: Zip Code: | I1: Country: | J1: Tel: | K1: E-mail: | L1: Additional Comments:
A2: =Form!C12 -> 0 | C2: =Form!C14 -> 0 | D2: =Form!C5 -> 0 | E2: =Form!C6 -> 0 | F2: =Form!C7 -> 0 | G2: =Form!C8 -> 0 | H2: =Form!F8 -> 0 | I2: =Form!C9 -> 0 | J2: =Form!C10 -> 0 | K2: =Form!C11 -> 0 | L2: =Form!C15 -> Please describe your application and tell us your challenges and concerns.

Sheet DetailData
A1: Type of handling | B1: CHEMICAL NAME | C1: TYPE OF CONTAINER | D1: Opened / Closed | E1: Dilution (%) | F1: Temperature (°C) | G1: Handling Frequency | H1: Handling Quantity | I1: Duration (min) | K1: Evaporation
A2: =Form!B22 -> 0 | B2: =Form!C22 -> 0 | C2: =Form!D22 -> 0 | D2: =Form!E22 -> 0 | E2: =Form!F22 -> 0 | F2: =Form!G22 -> 0 | G2: =Form!H22 -> 0 | H2: =Form!I22 -> 0 | I2: =Form!J22 -> 0 | K2: =Form!L22 -> 0
A3: =Form!B23 -> 0 | B3: =Form!C23 -> 0 | C3: =Form!D23 -> 0 | D3: =Form!E23 -> 0 | E3: =Form!F23 -> 0 | F3: =Form!G23 -> 0 | G3: =Form!H23 -> 0 | H3: =Form!I23 -> 0 | I3: =Form!J23 -> 0 | K3: =Form!L23 -> 0
A4: =Form!B24 -> 0 | B4: =Form!C24 -> 0 | C4: =Form!D24 -> 0 | D4: =Form!E24 -> 0 | E4: =Form!F24 -> 0 | F4: =Form!G24 -> 0 | G4: =Form!H24 -> 0 | H4: =Form!I24 -> 0 | I4: =Form!J24 -> 0 | K4: =Form!L24 -> 0
A5: =Form!B25 -> 0 | B5: =Form!C25 -> 0 | C5: =Form!D25 -> 0 | D5: =Form!E25 -> 0 | E5: =Form!F25 -> 0 | F5: =Form!G25 -> 0 | G5: =Form!H25 -> 0 | H5: =Form!I25 -> 0 | I5: =Form!J25 -> 0 | K5: =Form!L25 -> 0
A6: =Form!B26 -> 0 | B6: =Form!C26 -> 0 | C6: =Form!D26 -> 0 | D6: =Form!E26 -> 0 | E6: =Form!F26 -> 0 | F6: =Form!G26 -> 0 | G6: =Form!H26 -> 0 | H6: =Form!I26 -> 0 | I6: =Form!J26 -> 0 | K6: =Form!L26 -> 0
A7: =Form!B27 -> 0 | B7: =Form!C27 -> 0 | C7: =Form!D27 -> 0 | D7: =Form!E27 -> 0 | E7: =Form!F27 -> 0 | F7: =Form!G27 -> 0 | G7: =Form!H27 -> 0 | H7: =Form!I27 -> 0 | I7: =Form!J27 -> 0 | K7: =Form!L27 -> 0
A8: =Form!B28 -> 0 | B8: =Form!C28 -> 0 | C8: =Form!D28 -> 0 | D8: =Form!E28 -> 0 | E8: =Form!F28 -> 0 | F8: =Form!G28 -> 0 | G8: =Form!H28 -> 0 | H8: =Form!I28 -> 0 | I8: =Form!J28 -> 0 | K8: =Form!L28 -> 0
A9: =Form!B29 -> 0 | B9: =Form!C29 -> 0 | C9: =Form!D29 -> 0 | D9: =Form!E29 -> 0 | E9: =Form!F29 -> 0 | F9: =Form!G29 -> 0 | G9: =Form!H29 -> 0 | H9: =Form!I29 -> 0 | I9: =Form!J29 -> 0 | K9: =Form!L29 -> 0
A10: =Form!B30 -> 0 | B10: =Form!C30 -> 0 | C10: =Form!D30 -> 0 | D10: =Form!E30 -> 0 | E10: =Form!F30 -> 0 | F10: =Form!G30 -> 0 | G10: =Form!H30 -> 0 | H10: =Form!I30 -> 0 | I10: =Form!J30 -> 0 | K10: =Form!L30 -> 0
A11: =Form!B31 -> 0 | B11: =Form!C31 -> 0 | C11: =Form!D31 -> 0 | D11: =Form!E31 -> 0 | E11: =Form!F31 -> 0 | F11: =Form!G31 -> 0 | G11: =Form!H31 -> 0 | H11: =Form!I31 -> 0 | I11: =Form!J31 -> 0 | K11: =Form!L31 -> 0
A12: =Form!B32 -> 0 | B12: =Form!C32 -> 0 | C12: =Form!D32 -> 0 | D12: =Form!E32 -> 0 | E12: =Form!F32 -> 0 | F12: =Form!G32 -> 0 | G12: =Form!H32 -> 0 | H12: =Form!I32 -> 0 | I12: =Form!J32 -> 0 | K12: =Form!L32 -> 0
A13: =Form!B33 -> 0 | B13: =Form!C33 -> 0 | C13: =Form!D33 -> 0 | D13: =Form!E33 -> 0 | E13: =Form!F33 -> 0 | F13: =Form!G33 -> 0 | G13: =Form!H33 -> 0 | H13: =Form!I33 -> 0 | I13: =Form!J33 -> 0 | K13: =Form!L33 -> 0
... A22: =Form!B42 -> 0 | B22: =Form!C42 -> 0 | C22: =Form!D42 -> 0 | D22: =Form!E42 -> 0 | E22: =Form!F42 -> 0 | F22: =Form!G42 -> 0 | G22: =Form!H42 -> 0 | H22: =Form!I42 -> 0 | I22: =Form!J42 -> 0 | K22: =Form!L42 -> 0
